










BEGIN:VCALENDAR
VERSION:2.0
PRODID:-//Patinage Rive-Sud | S’ENGAGER, SE DÉPASSER, RAYONNER - ECPv6.15.20//NONSGML v1.0//EN
CALSCALE:GREGORIAN
METHOD:PUBLISH
X-WR-CALNAME:Patinage Rive-Sud | S’ENGAGER, SE DÉPASSER, RAYONNER
X-ORIGINAL-URL:https://patinagerivesud.com
X-WR-CALDESC:Évènements pour Patinage Rive-Sud | S’ENGAGER, SE DÉPASSER, RAYONNER
REFRESH-INTERVAL;VALUE=DURATION:PT1H
X-Robots-Tag:noindex
X-PUBLISHED-TTL:PT1H
BEGIN:VTIMEZONE
TZID:UTC
BEGIN:STANDARD
TZOFFSETFROM:+0000
TZOFFSETTO:+0000
TZNAME:UTC
DTSTART:20240101T000000
END:STANDARD
END:VTIMEZONE
BEGIN:VEVENT
DTSTART;TZID=UTC:20251218T090000
DTEND;TZID=UTC:20251220T170000
DTSTAMP:20260424T160559
CREATED:20251217T005359Z
LAST-MODIFIED:20251217T010006Z
UID:12886-1766048400-1766250000@patinagerivesud.com
SUMMARY:Tests Centralisés Décembre St-Hubert
DESCRIPTION:« Tous les Évènements\n 				\n				\n				\n				\n					Cet évènement est passé. \n				\n				\n				\n				\n					\n	Tests Centralisés Décembre Boucherville				\n				\n				\n				\n					\n		\n			décembre 22\n\n	\n\n	 @ \n\n\n9:00 am\n\n		\n\n\n\n	\n	 - \n\n5:00 pm\n\n\n\n	\n				\n				\n				\n				\n					\n	\n				\n				\n				\n						\n					\n			\n						\n				\n					\n\n  \n        \n          \n            AVIS\n          \n        \n  \n\n\n				\n				\n					\n		\n				\n			\n						\n				\n					\n\n  \n        \n          \n            HORAIRE\n          \n        \n  \n\n\n				\n				\n					\n		\n				\n			\n							\n		\n					\n		\n				\n						\n					\n			\n						\n				\n					\n				\n				\n	\n	Centre des Glaces Gilles-Chabot\n	\n	\n\n565 Boulevard de Mortagne\n	\n		\n		Boucherville\,\n\n	Quéebec\n\n	J4B 1B7\n\n	Canada\n\n\n\n\n	+ Google Map \n\n\n	\n					\n						\n	 \n\n\n	\n	 \n\n\n\n	\n\n\n\n		\n	\n				\n				\n					\n		\n					\n		\n				\n						\n					\n			\n						\n				\n					\n	\n		\n\n	\n	Ajouter au calendrier	\n		\n	\n\n		\n			\n									\n	Google Agenda\n\n									\n	iCalendar\n\n									\n	Outlook 365\n\n									\n	Outlook Live\n\n							\n		\n\n		\n	\n\n				\n				\n					\n		\n					\n		\n				\n						\n					\n			\n						\n				\n					\n	\n		\n\n				Activité de développement pour garçons	\n\n\n		\n	\n		Finale Régionale et Jeux du Québec Régionaux
URL:https://patinagerivesud.com/event/tests-centralises-decembre-st-hubert/
LOCATION:Centre Sportif Rosanne Laflamme\, 7405 Terrasse du Centre\, Saint-Hubert\, Québec\, J3Y 7Z6\, Canada
CATEGORIES:Tests
ATTACH;FMTTYPE=image/jpeg:https://patinagerivesud.com/wp-content/uploads/2024/12/39677_mm7WR7wYgDfuDauielWcx9gd9uNktWsoepY81PNLjH0.jpg
END:VEVENT
END:VCALENDAR