










BEGIN:VCALENDAR
VERSION:2.0
PRODID:-//Patinage Rive-Sud | S’ENGAGER, SE DÉPASSER, RAYONNER - ECPv6.15.20//NONSGML v1.0//EN
CALSCALE:GREGORIAN
METHOD:PUBLISH
X-WR-CALNAME:Patinage Rive-Sud | S’ENGAGER, SE DÉPASSER, RAYONNER
X-ORIGINAL-URL:https://patinagerivesud.com
X-WR-CALDESC:Évènements pour Patinage Rive-Sud | S’ENGAGER, SE DÉPASSER, RAYONNER
REFRESH-INTERVAL;VALUE=DURATION:PT1H
X-Robots-Tag:noindex
X-PUBLISHED-TTL:PT1H
BEGIN:VTIMEZONE
TZID:UTC
BEGIN:STANDARD
TZOFFSETFROM:+0000
TZOFFSETTO:+0000
TZNAME:UTC
DTSTART:20250101T000000
END:STANDARD
END:VTIMEZONE
BEGIN:VEVENT
DTSTART;TZID=UTC:20260314T183000
DTEND;TZID=UTC:20260314T223000
DTSTAMP:20260423T151312
CREATED:20250710T211224Z
LAST-MODIFIED:20250710T211224Z
UID:12491-1773513000-1773527400@patinagerivesud.com
SUMMARY:Soirée des Lauréats
DESCRIPTION:Informations complémentaires à venir ultérieurement
URL:https://patinagerivesud.com/event/soiree-des-laureats-2/
LOCATION:Corporation du Fort St-Jean\, 5 Rue Jacques-Cartier N\, Saint-Jean-sur-Richelieu\, J3B 8R8\, Canada
CATEGORIES:Lauréats
ATTACH;FMTTYPE=image/jpeg:https://patinagerivesud.com/wp-content/uploads/2024/11/p5.jpg
END:VEVENT
END:VCALENDAR