










BEGIN:VCALENDAR
VERSION:2.0
PRODID:-//Patinage Rive-Sud | S’ENGAGER, SE DÉPASSER, RAYONNER - ECPv6.15.20//NONSGML v1.0//EN
CALSCALE:GREGORIAN
METHOD:PUBLISH
X-WR-CALNAME:Patinage Rive-Sud | S’ENGAGER, SE DÉPASSER, RAYONNER
X-ORIGINAL-URL:https://patinagerivesud.com
X-WR-CALDESC:Évènements pour Patinage Rive-Sud | S’ENGAGER, SE DÉPASSER, RAYONNER
REFRESH-INTERVAL;VALUE=DURATION:PT1H
X-Robots-Tag:noindex
X-PUBLISHED-TTL:PT1H
BEGIN:VTIMEZONE
TZID:UTC
BEGIN:STANDARD
TZOFFSETFROM:+0000
TZOFFSETTO:+0000
TZNAME:UTC
DTSTART:20250101T000000
END:STANDARD
END:VTIMEZONE
BEGIN:VEVENT
DTSTART;TZID=UTC:20260202T180000
DTEND;TZID=UTC:20260202T210000
DTSTAMP:20260424T111814
CREATED:20250707T000221Z
LAST-MODIFIED:20250707T000221Z
UID:12472-1770055200-1770066000@patinagerivesud.com
SUMMARY:Conseil d'administration Février 2026
DESCRIPTION:« Tous les Évènements\n 				\n				\n				\n				\n					Cet évènement est passé. \n				\n				\n				\n				\n					\n	Tests Centralisés Décembre Boucherville				\n				\n				\n				\n					\n		\n			décembre 22\n\n	\n\n	 @ \n\n\n9:00 am\n\n		\n\n\n\n	\n	 - \n\n5:00 pm\n\n\n\n	\n				\n				\n				\n				\n					\n	\n				\n				\n				\n						\n					\n			\n						\n				\n					\n\n  \n        \n          \n            AVIS\n          \n        \n  \n\n\n				\n				\n					\n		\n				\n			\n						\n				\n					\n\n  \n        \n          \n            HORAIRE\n          \n        \n  \n\n\n				\n				\n					\n		\n				\n			\n							\n		\n					\n		\n				\n						\n					\n			\n						\n				\n					\n				\n				\n	\n	Centre des Glaces Gilles-Chabot\n	\n	\n\n565 Boulevard de Mortagne\n	\n		\n		Boucherville\,\n\n	Quéebec\n\n	J4B 1B7\n\n	Canada\n\n\n\n\n	+ Google Map \n\n\n	\n					\n						\n	 \n\n\n	\n	 \n\n\n\n	\n\n\n\n		\n	\n				\n				\n					\n		\n					\n		\n				\n						\n					\n			\n						\n				\n					\n	\n		\n\n	\n	Ajouter au calendrier	\n		\n	\n\n		\n			\n									\n	Google Agenda\n\n									\n	iCalendar\n\n									\n	Outlook 365\n\n									\n	Outlook Live\n\n							\n		\n\n		\n	\n\n				\n				\n					\n		\n					\n		\n				\n						\n					\n			\n						\n				\n					\n	\n		\n\n				Activité de développement pour garçons	\n\n\n		\n	\n		Finale Régionale et Jeux du Québec Régionaux
URL:https://patinagerivesud.com/event/conseil-dadministration-fevrier-2026/
LOCATION:Quéebec
CATEGORIES:Conseil d'administration
END:VEVENT
BEGIN:VEVENT
DTSTART;TZID=UTC:20260206T080000
DTEND;TZID=UTC:20260208T170000
DTSTAMP:20260424T111814
CREATED:20250701T225143Z
LAST-MODIFIED:20260126T232212Z
UID:12455-1770364800-1770570000@patinagerivesud.com
SUMMARY:Jeunes Étoiles et Mes Premiers Jeux
DESCRIPTION:« Tous les Évènements\n 				\n				\n				\n				\n					Cet évènement est passé. \n				\n				\n				\n				\n					\n	Tests Centralisés Décembre Boucherville				\n				\n				\n				\n					\n		\n			décembre 22\n\n	\n\n	 @ \n\n\n9:00 am\n\n		\n\n\n\n	\n	 - \n\n5:00 pm\n\n\n\n	\n				\n				\n				\n				\n					\n	\n				\n				\n				\n						\n					\n			\n						\n				\n					\n\n  \n        \n          \n            AVIS\n          \n        \n  \n\n\n				\n				\n					\n		\n				\n			\n						\n				\n					\n\n  \n        \n          \n            HORAIRE\n          \n        \n  \n\n\n				\n				\n					\n		\n				\n			\n							\n		\n					\n		\n				\n						\n					\n			\n						\n				\n					\n				\n				\n	\n	Centre des Glaces Gilles-Chabot\n	\n	\n\n565 Boulevard de Mortagne\n	\n		\n		Boucherville\,\n\n	Quéebec\n\n	J4B 1B7\n\n	Canada\n\n\n\n\n	+ Google Map \n\n\n	\n					\n						\n	 \n\n\n	\n	 \n\n\n\n	\n\n\n\n		\n	\n				\n				\n					\n		\n					\n		\n				\n						\n					\n			\n						\n				\n					\n	\n		\n\n	\n	Ajouter au calendrier	\n		\n	\n\n		\n			\n									\n	Google Agenda\n\n									\n	iCalendar\n\n									\n	Outlook 365\n\n									\n	Outlook Live\n\n							\n		\n\n		\n	\n\n				\n				\n					\n		\n					\n		\n				\n						\n					\n			\n						\n				\n					\n	\n		\n\n				Activité de développement pour garçons	\n\n\n		\n	\n		Finale Régionale et Jeux du Québec Régionaux
URL:https://patinagerivesud.com/event/jeunes-etoiles-et-mes-premiers-jeux/
LOCATION:Centre des Glaces Gilles-Chabot\, 565 Boulevard de Mortagne\, Boucherville\, Quéebec\, J4B 1B7\, Canada
CATEGORIES:Compétitions
ATTACH;FMTTYPE=image/jpeg:https://patinagerivesud.com/wp-content/uploads/2024/11/DSCF5534-1600x1067-1.jpg
END:VEVENT
BEGIN:VEVENT
DTSTART;TZID=UTC:20260209T193000
DTEND;TZID=UTC:20260209T210000
DTSTAMP:20260424T111814
CREATED:20250707T002201Z
LAST-MODIFIED:20250707T002201Z
UID:12486-1770665400-1770670800@patinagerivesud.com
SUMMARY:Conseil de direction - Via Teams
DESCRIPTION:« Tous les Évènements\n 				\n				\n				\n				\n					Cet évènement est passé. \n				\n				\n				\n				\n					\n	Tests Centralisés Décembre Boucherville				\n				\n				\n				\n					\n		\n			décembre 22\n\n	\n\n	 @ \n\n\n9:00 am\n\n		\n\n\n\n	\n	 - \n\n5:00 pm\n\n\n\n	\n				\n				\n				\n				\n					\n	\n				\n				\n				\n						\n					\n			\n						\n				\n					\n\n  \n        \n          \n            AVIS\n          \n        \n  \n\n\n				\n				\n					\n		\n				\n			\n						\n				\n					\n\n  \n        \n          \n            HORAIRE\n          \n        \n  \n\n\n				\n				\n					\n		\n				\n			\n							\n		\n					\n		\n				\n						\n					\n			\n						\n				\n					\n				\n				\n	\n	Centre des Glaces Gilles-Chabot\n	\n	\n\n565 Boulevard de Mortagne\n	\n		\n		Boucherville\,\n\n	Quéebec\n\n	J4B 1B7\n\n	Canada\n\n\n\n\n	+ Google Map \n\n\n	\n					\n						\n	 \n\n\n	\n	 \n\n\n\n	\n\n\n\n		\n	\n				\n				\n					\n		\n					\n		\n				\n						\n					\n			\n						\n				\n					\n	\n		\n\n	\n	Ajouter au calendrier	\n		\n	\n\n		\n			\n									\n	Google Agenda\n\n									\n	iCalendar\n\n									\n	Outlook 365\n\n									\n	Outlook Live\n\n							\n		\n\n		\n	\n\n				\n				\n					\n		\n					\n		\n				\n						\n					\n			\n						\n				\n					\n	\n		\n\n				Activité de développement pour garçons	\n\n\n		\n	\n		Finale Régionale et Jeux du Québec Régionaux
URL:https://patinagerivesud.com/event/conseil-de-direction-via-teams/
LOCATION:Quéebec
CATEGORIES:Conseil de direction
END:VEVENT
BEGIN:VEVENT
DTSTART;TZID=UTC:20260213T080000
DTEND;TZID=UTC:20260215T170000
DTSTAMP:20260424T111814
CREATED:20250701T225636Z
LAST-MODIFIED:20260125T194209Z
UID:12458-1770969600-1771174800@patinagerivesud.com
SUMMARY:Invitation Ste-Julie
DESCRIPTION:« Tous les Évènements\n 				\n				\n				\n				\n					Cet évènement est passé. \n				\n				\n				\n				\n					\n	Tests Centralisés Décembre Boucherville				\n				\n				\n				\n					\n		\n			décembre 22\n\n	\n\n	 @ \n\n\n9:00 am\n\n		\n\n\n\n	\n	 - \n\n5:00 pm\n\n\n\n	\n				\n				\n				\n				\n					\n	\n				\n				\n				\n						\n					\n			\n						\n				\n					\n\n  \n        \n          \n            AVIS\n          \n        \n  \n\n\n				\n				\n					\n		\n				\n			\n						\n				\n					\n\n  \n        \n          \n            HORAIRE\n          \n        \n  \n\n\n				\n				\n					\n		\n				\n			\n							\n		\n					\n		\n				\n						\n					\n			\n						\n				\n					\n				\n				\n	\n	Centre des Glaces Gilles-Chabot\n	\n	\n\n565 Boulevard de Mortagne\n	\n		\n		Boucherville\,\n\n	Quéebec\n\n	J4B 1B7\n\n	Canada\n\n\n\n\n	+ Google Map \n\n\n	\n					\n						\n	 \n\n\n	\n	 \n\n\n\n	\n\n\n\n		\n	\n				\n				\n					\n		\n					\n		\n				\n						\n					\n			\n						\n				\n					\n	\n		\n\n	\n	Ajouter au calendrier	\n		\n	\n\n		\n			\n									\n	Google Agenda\n\n									\n	iCalendar\n\n									\n	Outlook 365\n\n									\n	Outlook Live\n\n							\n		\n\n		\n	\n\n				\n				\n					\n		\n					\n		\n				\n						\n					\n			\n						\n				\n					\n	\n		\n\n				Activité de développement pour garçons	\n\n\n		\n	\n		Finale Régionale et Jeux du Québec Régionaux
URL:https://patinagerivesud.com/event/invitation-ste-julie-2/
LOCATION:Aréna Ste-Julie\, 201 boulevard Armand Frappier\, Ste-Julie\, Québec\, J3E 0C7\, Canada
CATEGORIES:Compétitions
ATTACH;FMTTYPE=image/jpeg:https://patinagerivesud.com/wp-content/uploads/2025/07/ste-julie.jpg
END:VEVENT
BEGIN:VEVENT
DTSTART;TZID=UTC:20260220T080000
DTEND;TZID=UTC:20260222T170000
DTSTAMP:20260424T111814
CREATED:20250701T225745Z
LAST-MODIFIED:20260119T231347Z
UID:12460-1771574400-1771779600@patinagerivesud.com
SUMMARY:Invitation Lise Boucher
DESCRIPTION:« Tous les Évènements\n 				\n				\n				\n				\n					Cet évènement est passé. \n				\n				\n				\n				\n					\n	Tests Centralisés Décembre Boucherville				\n				\n				\n				\n					\n		\n			décembre 22\n\n	\n\n	 @ \n\n\n9:00 am\n\n		\n\n\n\n	\n	 - \n\n5:00 pm\n\n\n\n	\n				\n				\n				\n				\n					\n	\n				\n				\n				\n						\n					\n			\n						\n				\n					\n\n  \n        \n          \n            AVIS\n          \n        \n  \n\n\n				\n				\n					\n		\n				\n			\n						\n				\n					\n\n  \n        \n          \n            HORAIRE\n          \n        \n  \n\n\n				\n				\n					\n		\n				\n			\n							\n		\n					\n		\n				\n						\n					\n			\n						\n				\n					\n				\n				\n	\n	Centre des Glaces Gilles-Chabot\n	\n	\n\n565 Boulevard de Mortagne\n	\n		\n		Boucherville\,\n\n	Quéebec\n\n	J4B 1B7\n\n	Canada\n\n\n\n\n	+ Google Map \n\n\n	\n					\n						\n	 \n\n\n	\n	 \n\n\n\n	\n\n\n\n		\n	\n				\n				\n					\n		\n					\n		\n				\n						\n					\n			\n						\n				\n					\n	\n		\n\n	\n	Ajouter au calendrier	\n		\n	\n\n		\n			\n									\n	Google Agenda\n\n									\n	iCalendar\n\n									\n	Outlook 365\n\n									\n	Outlook Live\n\n							\n		\n\n		\n	\n\n				\n				\n					\n		\n					\n		\n				\n						\n					\n			\n						\n				\n					\n	\n		\n\n				Activité de développement pour garçons	\n\n\n		\n	\n		Finale Régionale et Jeux du Québec Régionaux
URL:https://patinagerivesud.com/event/invitation-lise-boucher-2/
LOCATION:Centre Sportif Rosanne Laflamme\, 7405 Terrasse du Centre\, Saint-Hubert\, Québec\, J3Y 7Z6\, Canada
CATEGORIES:Compétitions
ATTACH;FMTTYPE=image/jpeg:https://patinagerivesud.com/wp-content/uploads/2025/07/gaetan-1.jpg
END:VEVENT
END:VCALENDAR